BEGIN:VCALENDAR
VERSION:2.0
PRODID:-//Verdegro - ECPv6.15.19//NONSGML v1.0//EN
CALSCALE:GREGORIAN
METHOD:PUBLISH
X-ORIGINAL-URL:https://verdegro.com
X-WR-CALDESC:Events for Verdegro
REFRESH-INTERVAL;VALUE=DURATION:PT1H
X-Robots-Tag:noindex
X-PUBLISHED-TTL:PT1H
BEGIN:VTIMEZONE
TZID:Europe/Helsinki
BEGIN:DAYLIGHT
TZOFFSETFROM:+0200
TZOFFSETTO:+0300
TZNAME:EEST
DTSTART:20070325T010000
END:DAYLIGHT
BEGIN:STANDARD
TZOFFSETFROM:+0300
TZOFFSETTO:+0200
TZNAME:EET
DTSTART:20071028T010000
END:STANDARD
BEGIN:DAYLIGHT
TZOFFSETFROM:+0200
TZOFFSETTO:+0300
TZNAME:EEST
DTSTART:20080330T010000
END:DAYLIGHT
BEGIN:STANDARD
TZOFFSETFROM:+0300
TZOFFSETTO:+0200
TZNAME:EET
DTSTART:20081026T010000
END:STANDARD
BEGIN:DAYLIGHT
TZOFFSETFROM:+0200
TZOFFSETTO:+0300
TZNAME:EEST
DTSTART:20090329T010000
END:DAYLIGHT
BEGIN:STANDARD
TZOFFSETFROM:+0300
TZOFFSETTO:+0200
TZNAME:EET
DTSTART:20091025T010000
END:STANDARD
END:VTIMEZONE
BEGIN:VEVENT
DTSTART;VALUE=DATE:20080102
DTEND;VALUE=DATE:20080103
DTSTAMP:20260424T212511
CREATED:20221107T105140Z
LAST-MODIFIED:20250107T141655Z
UID:1766-1199232000-1199318399@verdegro.com
SUMMARY:AUTO CONE
DESCRIPTION:
URL:https://verdegro.com/event/introduction-of-the-auto-cone-year-only/
CATEGORIES:Timeline
ATTACH;FMTTYPE=image/png:https://verdegro.com/wp-content/uploads/2022/11/mac1-1.png
END:VEVENT
END:VCALENDAR